BEGIN:VCALENDAR
VERSION:2.0
PRODID:-//77.72.1.44//NONSGML kigkonsult.se iCalcreator 2.26.9//
CALSCALE:GREGORIAN
METHOD:PUBLISH
X-FROM-URL:http://www.middleton-northants-pc.gov.uk
X-WR-TIMEZONE:Europe/London
BEGIN:VTIMEZONE
TZID:Europe/London
X-LIC-LOCATION:Europe/London
BEGIN:STANDARD
DTSTART:20251026T020000
TZOFFSETFROM:+0100
TZOFFSETTO:+0000
RDATE:20261025T020000
TZNAME:GMT
END:STANDARD
BEGIN:DAYLIGHT
DTSTART:20260329T010000
TZOFFSETFROM:+0000
TZOFFSETTO:+0100
RDATE:20270328T010000
TZNAME:BST
END:DAYLIGHT
END:VTIMEZONE
BEGIN:VEVENT
UID:ai1ec-1618@www.middleton-northants-pc.gov.uk
DTSTAMP:20260421T141042Z
CATEGORIES:
CONTACT:
DESCRIPTION:
DTSTART;TZID=Europe/London:20260310T183000
LOCATION:Cottingham / Middleton Village Hall Annexe
SEQUENCE:0
SUMMARY:Parish Council Meeting
URL:http://www.middleton-northants-pc.gov.uk/event/parish-council-meeting-3
 /
X-COST-TYPE:free
X-INSTANT-EVENT:1
END:VEVENT
BEGIN:VEVENT
UID:ai1ec-1458@www.middleton-northants-pc.gov.uk
DTSTAMP:20260421T141042Z
CATEGORIES:
CONTACT:
DESCRIPTION:
DTSTART;TZID=Europe/London:20260414T183000
LOCATION:Cottingham and Middleton Village Hall
SEQUENCE:0
SUMMARY:Annual Meeting of the Parish
URL:http://www.middleton-northants-pc.gov.uk/event/litter-pick-2/
X-COST-TYPE:free
X-INSTANT-EVENT:1
END:VEVENT
BEGIN:VEVENT
UID:ai1ec-1190@middleton-northants-pc.gov.uk
DTSTAMP:20260421T141042Z
CATEGORIES:
CONTACT:
DESCRIPTION:
DTSTART;TZID=Europe/London:20260414T184500
LOCATION:Cottingham and Middleton Village Hall
SEQUENCE:0
SUMMARY:Parish Council Meeting
URL:http://www.middleton-northants-pc.gov.uk/event/conservation-area-consul
 tation/
X-COST-TYPE:free
X-INSTANT-EVENT:1
END:VEVENT
BEGIN:VEVENT
UID:ai1ec-1211@middleton-northants-pc.gov.uk
DTSTAMP:20260421T141042Z
CATEGORIES:
CONTACT:
DESCRIPTION:
DTSTART;TZID=Europe/London:20260512T183000
LOCATION:Cottingham / Middleton Village Hall Annexe
SEQUENCE:0
SUMMARY:Annual Parish Council Meeting
URL:http://www.middleton-northants-pc.gov.uk/event/conservation-area-inform
 ation-evening/
X-COST-TYPE:free
X-INSTANT-EVENT:1
END:VEVENT
BEGIN:VEVENT
UID:ai1ec-1257@www.middleton-northants-pc.gov.uk
DTSTAMP:20260421T141042Z
CATEGORIES:
CONTACT:
DESCRIPTION:<p><a href='http://www.middleton-northants-pc.gov.uk/wp-content
 /uploads/2016/02/Cottingham-and-Middleton.pdf'>Cottingham and Middleton Fe
 te</a></p>
DTSTART;TZID=Europe/London:20260711T120000
DTEND;TZID=Europe/London:20260711T170000
LOCATION:Cottingham and Middleton Village Hall @ Berryfield Road\, LE16 8XB
SEQUENCE:0
SUMMARY:Cottingham and Middleton Village Fete
URL:http://www.middleton-northants-pc.gov.uk/event/extraordinary-parish-cou
 ncil-meeting/
X-COST-TYPE:free
END:VEVENT
END:VCALENDAR
